BEGIN:VCALENDAR
VERSION:2.0
PRODID:-//Brösarp - ECPv6.15.20//NONSGML v1.0//EN
CALSCALE:GREGORIAN
METHOD:PUBLISH
X-ORIGINAL-URL:https://www.brosarp.com
X-WR-CALDESC:Händelser för Brösarp
REFRESH-INTERVAL;VALUE=DURATION:PT1H
X-Robots-Tag:noindex
X-PUBLISHED-TTL:PT1H
BEGIN:VTIMEZONE
TZID:Europe/Stockholm
BEGIN:DAYLIGHT
TZOFFSETFROM:+0100
TZOFFSETTO:+0200
TZNAME:CEST
DTSTART:20250330T010000
END:DAYLIGHT
BEGIN:STANDARD
TZOFFSETFROM:+0200
TZOFFSETTO:+0100
TZNAME:CET
DTSTART:20251026T010000
END:STANDARD
BEGIN:DAYLIGHT
TZOFFSETFROM:+0100
TZOFFSETTO:+0200
TZNAME:CEST
DTSTART:20260329T010000
END:DAYLIGHT
BEGIN:STANDARD
TZOFFSETFROM:+0200
TZOFFSETTO:+0100
TZNAME:CET
DTSTART:20261025T010000
END:STANDARD
BEGIN:DAYLIGHT
TZOFFSETFROM:+0100
TZOFFSETTO:+0200
TZNAME:CEST
DTSTART:20270328T010000
END:DAYLIGHT
BEGIN:STANDARD
TZOFFSETFROM:+0200
TZOFFSETTO:+0100
TZNAME:CET
DTSTART:20271031T010000
END:STANDARD
END:VTIMEZONE
BEGIN:VEVENT
DTSTART;TZID=Europe/Stockholm:20260226T190000
DTEND;TZID=Europe/Stockholm:20260226T210000
DTSTAMP:20260419T163203
CREATED:20250724T195404Z
LAST-MODIFIED:20260131T103312Z
UID:10589-1772132400-1772139600@www.brosarp.com
SUMMARY:Årsmöte
DESCRIPTION:Välkommen till Årsmötet i BIFs lokaler. Vi bjuder på smörgås kaffe/te och kaka. OBS! Obligatoriskt att anmäla sig till Inga-Lena 0723068787 senast den 22 februari.
URL:https://www.brosarp.com/https-brosarp-se-event-single-post-name/arsmote/
LOCATION:Brösarps IF klubbstuga\, Brunnsviksvägen 26\, Brösarp\, Sverige
END:VEVENT
END:VCALENDAR