BEGIN:VCALENDAR
VERSION:2.0
PRODID:-//Brösarp - ECPv6.15.20//NONSGML v1.0//EN
CALSCALE:GREGORIAN
METHOD:PUBLISH
X-WR-CALNAME:Brösarp
X-ORIGINAL-URL:https://www.brosarp.com
X-WR-CALDESC:Händelser för Brösarp
REFRESH-INTERVAL;VALUE=DURATION:PT1H
X-Robots-Tag:noindex
X-PUBLISHED-TTL:PT1H
BEGIN:VTIMEZONE
TZID:Europe/Stockholm
BEGIN:DAYLIGHT
TZOFFSETFROM:+0100
TZOFFSETTO:+0200
TZNAME:CEST
DTSTART:20250330T010000
END:DAYLIGHT
BEGIN:STANDARD
TZOFFSETFROM:+0200
TZOFFSETTO:+0100
TZNAME:CET
DTSTART:20251026T010000
END:STANDARD
BEGIN:DAYLIGHT
TZOFFSETFROM:+0100
TZOFFSETTO:+0200
TZNAME:CEST
DTSTART:20260329T010000
END:DAYLIGHT
BEGIN:STANDARD
TZOFFSETFROM:+0200
TZOFFSETTO:+0100
TZNAME:CET
DTSTART:20261025T010000
END:STANDARD
BEGIN:DAYLIGHT
TZOFFSETFROM:+0100
TZOFFSETTO:+0200
TZNAME:CEST
DTSTART:20270328T010000
END:DAYLIGHT
BEGIN:STANDARD
TZOFFSETFROM:+0200
TZOFFSETTO:+0100
TZNAME:CET
DTSTART:20271031T010000
END:STANDARD
END:VTIMEZONE
BEGIN:VEVENT
DTSTART;TZID=Europe/Stockholm:20260606T170000
DTEND;TZID=Europe/Stockholm:20260606T190000
DTSTAMP:20260420T070342
CREATED:20260129T165340Z
LAST-MODIFIED:20260130T151652Z
UID:10633-1780765200-1780772400@www.brosarp.com
SUMMARY:Nationaldagsfirande
DESCRIPTION:Traditionsenligt Nationaldagsfirande med Tomelilla ungdomsorkester. Mer information kommer.
URL:https://www.brosarp.com/https-brosarp-se-event-single-post-name/nationaldagsfirande-4/
LOCATION:Brösarps Byaäng
ATTACH;FMTTYPE=image/jpeg:https://www.brosarp.com/wp-content/uploads/2021/06/Fana-o-fallskarm.jpg
END:VEVENT
BEGIN:VEVENT
DTSTART;TZID=Europe/Stockholm:20260607T100000
DTEND;TZID=Europe/Stockholm:20260607T130000
DTSTAMP:20260420T070342
CREATED:20260129T165600Z
LAST-MODIFIED:20260130T152429Z
UID:10635-1780826400-1780837200@www.brosarp.com
SUMMARY:Bakluckeloppis
DESCRIPTION:
URL:https://www.brosarp.com/https-brosarp-se-event-single-post-name/bakluckeloppis-17/
LOCATION:Gamla vägstationsområdet\, Smedjevägen 11\, Brösarp
ATTACH;FMTTYPE=image/png:https://www.brosarp.com/wp-content/uploads/2025/07/kartaloppis.png
END:VEVENT
BEGIN:VEVENT
DTSTART;TZID=Europe/Stockholm:20260618T180000
DTEND;TZID=Europe/Stockholm:20260618T190000
DTSTAMP:20260420T070342
CREATED:20260129T180313Z
LAST-MODIFIED:20260130T152322Z
UID:10641-1781805600-1781809200@www.brosarp.com
SUMMARY:Vi klär midsommarstången
DESCRIPTION:Klockan 18.00 klär vi midsommarstången på Byaängen. Välkomna!
URL:https://www.brosarp.com/https-brosarp-se-event-single-post-name/vi-klar-midsommarstangen/
LOCATION:Brösarps Byaäng
ATTACH;FMTTYPE=image/jpeg:https://www.brosarp.com/wp-content/uploads/2023/04/midsommarstang.jpg
END:VEVENT
BEGIN:VEVENT
DTSTART;TZID=Europe/Stockholm:20260619T133000
DTEND;TZID=Europe/Stockholm:20260619T150000
DTSTAMP:20260420T070342
CREATED:20260129T180755Z
LAST-MODIFIED:20260130T150851Z
UID:10643-1781875800-1781881200@www.brosarp.com
SUMMARY:Midsommarfirande
DESCRIPTION:Kom och hjälp till att klä midsommarstången med blommor. Ta gärna med blommor från trädgården för att färdigställa midsommarstången och göra kransar. Alla barn blir bjudna på glass. Vi ses 13.30 och 14.00 reses stången\, därefter dans.
URL:https://www.brosarp.com/https-brosarp-se-event-single-post-name/midsommarfirande-4/
LOCATION:Brösarps Byaäng
ATTACH;FMTTYPE=image/jpeg:https://www.brosarp.com/wp-content/uploads/2018/06/midsommar.jpg
END:VEVENT
BEGIN:VEVENT
DTSTART;TZID=Europe/Stockholm:20260628T100000
DTEND;TZID=Europe/Stockholm:20260628T130000
DTSTAMP:20260420T070342
CREATED:20260129T180959Z
LAST-MODIFIED:20260130T152134Z
UID:10647-1782640800-1782651600@www.brosarp.com
SUMMARY:Bakluckeloppis
DESCRIPTION:Kom och sälj och fynda
URL:https://www.brosarp.com/https-brosarp-se-event-single-post-name/bakluckeloppis-18/
LOCATION:Gamla vägstationsområdet\, Smedjevägen 11\, Brösarp
ATTACH;FMTTYPE=image/png:https://www.brosarp.com/wp-content/uploads/2025/07/kartaloppis.png
END:VEVENT
END:VCALENDAR